BEGIN:VCALENDAR
VERSION:2.0
PRODID:-//Carolina Adoption and Foster Care Services - ECPv6.15.20//NONSGML v1.0//EN
CALSCALE:GREGORIAN
METHOD:PUBLISH
X-WR-CALNAME:Carolina Adoption and Foster Care Services
X-ORIGINAL-URL:https://childrensadoptionservices.org
X-WR-CALDESC:Events for Carolina Adoption and Foster Care Services
REFRESH-INTERVAL;VALUE=DURATION:PT1H
X-Robots-Tag:noindex
X-PUBLISHED-TTL:PT1H
BEGIN:VTIMEZONE
TZID:America/New_York
BEGIN:DAYLIGHT
TZOFFSETFROM:-0500
TZOFFSETTO:-0400
TZNAME:EDT
DTSTART:20230312T070000
END:DAYLIGHT
BEGIN:STANDARD
TZOFFSETFROM:-0400
TZOFFSETTO:-0500
TZNAME:EST
DTSTART:20231105T060000
END:STANDARD
BEGIN:DAYLIGHT
TZOFFSETFROM:-0500
TZOFFSETTO:-0400
TZNAME:EDT
DTSTART:20240310T070000
END:DAYLIGHT
BEGIN:STANDARD
TZOFFSETFROM:-0400
TZOFFSETTO:-0500
TZNAME:EST
DTSTART:20241103T060000
END:STANDARD
BEGIN:DAYLIGHT
TZOFFSETFROM:-0500
TZOFFSETTO:-0400
TZNAME:EDT
DTSTART:20250309T070000
END:DAYLIGHT
BEGIN:STANDARD
TZOFFSETFROM:-0400
TZOFFSETTO:-0500
TZNAME:EST
DTSTART:20251102T060000
END:STANDARD
END:VTIMEZONE
BEGIN:VEVENT
DTSTART;TZID=America/New_York:20240909T180000
DTEND;TZID=America/New_York:20240909T210000
DTSTAMP:20260424T062042
CREATED:20240627T210108Z
LAST-MODIFIED:20240627T211422Z
UID:5248-1725904800-1725915600@childrensadoptionservices.org
SUMMARY:Tips-Mapp Training
DESCRIPTION:Register now for our fall TIPS-MAPP training session\nTraining will begin on Monday\, September\, 2024\, from 6-9pm EST and will run weekly through Monday November 11\, 2024\nRegistration deadline for Fall training is August 12 at 5:00 PM. Registere now as there is limited space.\n  \nOnce you have registered and been approved into the program\, a link will be sent to your email with more information \nRegister Here!
URL:https://childrensadoptionservices.org/event/tips-mapp-training-2/
CATEGORIES:Foster Care
ATTACH;FMTTYPE=image/jpeg:https://childrensadoptionservices.org/wp-content/uploads/2024/06/9.2024-Tips-Mapp-Training.jpg
ORGANIZER;CN="Carolina Adoption":MAILTO:info@carolinaadoption.org
END:VEVENT
END:VCALENDAR